Workbook

Sheet Rekapitulace stavby
A1: Export VZ | D1: List obsahuje: | K1: 1) Rekapitulace stavby | W1: 2) Rekapitulace objektů stavby a soupisů prací | BF1: False | BG1: False | BH1: {3e09cb48-31fe-442a-ac2e-b4b284547f30}
BE2: 0,01 | BF2: 21
BE3: 0,01 | BF3: 15
D4: REKAPITULACE STAVBY | BE4: 0,001
D5: Kód: | K5: 2018/06/02 | BE5: 0,01
D6: Stavba: | K6: Rataje - dostavba vodovodu a kanalizace pro nové stavební parcely | BE6: 0,01
D7: KSO: | K7: 827 | AK7: CC-CZ: | AN7: 22 | BE7: 0,01
D8: Místo: | K8: Rataje | AK8: Datum: | AN8: 18. 6. 2018 | BE8: 0,01
D9: CZ-CPV: | K9: 45000000-7 | AK9: CZ-CPA: | AN9: 42 | BE9: 0,01
D10: Zadavatel: | AK10: IČ: | AN10: 00252786 | BE10: 0,01
E11: Obec Rataje | AK11: DIČ: | AN11: CZ00252786 | BE11: 0,01
BE12: 0,01
D13: Uchazeč: | AK13: IČ: | AN13: Vyplň údaj | BE13: 0,01
E14: Vyplň údaj | AK14: DIČ: | AN14: Vyplň údaj | BE14: 0,01
BE15: False
D16: Projektant: | AK16: IČ: | AN16: 28159721 | BE16: False
E17: VAK projekt s.r.o. | AK17: DIČ: | AN17: CZ 281 59 721 | BE17: True
BE18: 0,01
D19: Poznámka: | BE19: 0,01
E20: Soupis prací je sestaven s využitím Cenové soustavy ÚRS. Položky, které pochází z této cenové soustavy, jsou ve sloupci 'Cenová soustava' označeny popisem 'CS ÚRS' a úrovní příslušného kalendářního pololetí. Veškeré další informace vymezující popis a podmínky použití těchto položek z Cenové soustavy, které nejsou uvedeny přímo v soupisu prací, jsou neomezeně dálkově k dispozici na www.cs-urs.cz, sekce Cenové a technické podmínky. | BE20: False
D23: Cena bez DPH | AK23: =ROUND(AG51,2) -> 0
L25: Sazba daně | W25: Základ daně | AK25: Výše daně
D26: DPH | F26: základní | L26: 0.21 | W26: =ROUND(AG51,2) -> 0 | AK26: =AN51-AG51 -> 0
F27: snížená | L27: 0.15 | W27: 0 | AK27: 0
F28: zákl. přenesená | L28: 0.21 | W28: =ROUND(#REF!,2) -> #REF! | AK28: 0
F29: sníž. přenesená | L29: 0.15 | W29: =ROUND(#REF!,2) -> #REF! | AK29: 0
F30: nulová | L30: 0 | W30: =ROUND(#REF!,2) -> #REF! | AK30: 0
D32: Cena s DPH | T32: v | X32: CZK | AK32: =SUM(AK23:AK30) -> 0
C39: REKAPITULACE OBJEKTŮ STAVBY A SOUPISŮ PRACÍ
C41: Kód: | L41: =K5 -> 2018/06/02
C42: Stavba: | L42: =K6 -> Rataje - dostavba vodovodu a kanalizace pro nové stavební parcely
C44: Místo: | L44: =IF(K8="","",K8) -> Rataje | AI44: Datum: | AM44: =IF(AN8= "","",AN8) -> 18. 6. 2018
C46: Zadavatel: | L46: =IF(E11= "","",E11) -> Obec Rataje | AI46: Projektant: | AM46: =IF(E17="","",E17) -> VAK projekt s.r.o.
C47: Uchazeč: | L47: =IF(E14= "Vyplň údaj","",E14)
C49: Kód | I49: Objekt, Soupis prací | AG49: Cena bez DPH [CZK] | AN49: Cena s DPH [CZK] | AQ49: Typ
C51: Náklady stavby celkem | AG51: =ROUND(SUM(AG52:AG53),2) -> 0 | AN51: =ROUND(SUM(AN52:AN53),2) -> 0 | BE51: D | BF51: 0 | BG51: ###NOIMPORT### | BH51: IMPORT | BI51: {3e09cb48-31fe-442a-ac2e-b4b284547f30} | BJ51: {00000000-0000-0000-0000-000000000000} | BX51: 827
A52: / | D52: VRN-00 | J52: Vedlejší rozpočtové náklady | AG52: ='VRN-00 - Vedlejší rozpočt...'!J27 -> 0 | AN52: =AG52+(AG52*0.21) -> 0 | AQ52: STA | BF52: 1 | BH52: IMPORT | BI52: {ffd362c3-b974-46fe-ac0d-99d2e3686e1c} | BJ52: {3e09cb48-31fe-442a-ac2e-b4b284547f30} | BX52: 827 13 11 | BY52: 2
A53: / | D53: SO-02.2 | J53: Splašková kanalizace - II. etapa | AG53: ='SO-02.1 - Splašková kanal...'!J27 -> 0 | AN53: =AG53+(AG53*0.21) -> 0 | AQ53: STA | BF53: 1 | BH53: IMPORT | BI53: {625da44f-7157-43bb-b33a-35db75e309be} | BJ53: {3e09cb48-31fe-442a-ac2e-b4b284547f30} | BX53: 827 21 11 | BY53: 2

Sheet VRN-00 - Vedlejší rozpočt...
D1: List obsahuje: | F1: 1) Krycí list soupisu | G1: 2) Rekapitulace | J1: 3) Soupis prací | K1: Zpět na list: | L1: Rekapitulace stavby
L2: >> skryté sloupce << | AT2: {ffd362c3-b974-46fe-ac0d-99d2e3686e1c}
AT3: 2
D4: KRYCÍ LIST SOUPISU | M4: v --- níže se nacházejí doplnkové a pomocné údaje k sestavám --- v | AT4: False
D6: Stavba:
E7: ='Rekapitulace stavby'!K6 -> Rataje - dostavba vodovodu a kanalizace pro nové stavební parcely
D8: Objekt:
E9: VRN-00 - Vedlejší rozpočtové náklady
D11: KSO: | F11: 827 13 11 | I11: CC-CZ: | J11: 2
D12: Místo: | F12: Rataje | I12: Datum: | J12: ='Rekapitulace stavby'!AN8 -> 18. 6. 2018
D13: CZ-CPV: | F13: 45000000-7 | I13: CZ-CPA: | J13: 42
D14: Zadavatel: | I14: IČ: | J14: 00252786
E15: Obec Rataje | I15: DIČ: | J15: CZ00252786
D17: Uchazeč: | I17: IČ: | J17: =IF('Rekapitulace stavby'!AN13="Vyplň údaj","",IF('Rekapitulace stavby'!AN13="","",'Rekapitulace stavby'!AN13))
E18: =IF('Rekapitulace stavby'!E14="Vyplň údaj","",IF('Rekapitulace stavby'!E14="","",'Rekapitulace stavby'!E14)) | I18: DIČ: | J18: =IF('Rekapitulace stavby'!AN14="Vyplň údaj","",IF('Rekapitulace stavby'!AN14="","",'Rekapitulace stavby'!AN14))
D20: Projektant: | I20: IČ: | J20: 28159721
E21: VAK projekt s.r.o. | I21: DIČ: | J21: CZ 281 59 721
D23: Poznámka:
D27: Cena bez DPH | J27: =ROUND(J80,2) -> 0
F29: Základ daně | I29: Sazba daně | J29: Výše daně
D30: DPH | E30: základní | F30: =ROUND(SUM(BE80:BE109), 2) -> 0 | I30: 0.21 | J30: =ROUND(ROUND((SUM(BE80:BE109)), 2)*I30, 2) -> 0
E31: snížená | F31: =ROUND(SUM(BF80:BF109), 2) -> 0 | I31: 0.15 | J31: =ROUND(ROUND((SUM(BF80:BF109)), 2)*I31, 2) -> 0
E32: zákl. přenesená | F32: =ROUND(SUM(BG80:BG109), 2) -> 0 | I32: 0.21 | J32: 0
E33: sníž. přenesená | F33: =ROUND(SUM(BH80:BH109), 2) -> 0 | I33: 0.15 | J33: 0
E34: nulová | F34: =ROUND(SUM(BI80:BI109), 2) -> 0 | I34: 0 | J34: 0
D36: Cena s DPH | G36: v | H36: CZK | J36: =SUM(J27:J34) -> 0
C42: REKAPITULACE ČLENĚNÍ SOUPISU PRACÍ
C44: Stavba:
E45: =E7 -> Rataje - dostavba vodovodu a kanalizace pro nové stavební parcely
C46: Objekt:
E47: =E9 -> VRN-00 - Vedlejší rozpočtové náklady
C49: Místo: | F49: =F12 -> Rataje | I49: Datum: | J49: =IF(J12="","",J12) -> 18. 6. 2018
C51: Zadavatel: | F51: =E15 -> Obec Rataje | I51: Projektant: | J51: =E21 -> VAK projekt s.r.o.
C52: Uchazeč: | F52: =IF(E18="","",E18)
C54: Kód dílu - Popis | J54: Cena celkem [CZK]
C56: Náklady soupisu celkem | J56: =J80 -> 0 | AU56: -1
D57: VRN - Vedlejší rozpočtové náklady | J57: =J81 -> 0
D58: VRN1 - Průzkumné, geodetické a projektové práce | J58: =J82 -> 0
D59: VRN3 - Zařízení staveniště | J59: =J102 -> 0
D60: VRN7 - Provozní vlivy | J60: =J106 -> 0
...

Sheet SO-02.1 - Splašková kanal...
D1: List obsahuje: | F1: 1) Krycí list soupisu | G1: 2) Rekapitulace | J1: 3) Soupis prací | K1: Zpět na list: | L1: Rekapitulace stavby
L2: >> skryté sloupce << | AT2: {8fbd1d94-493e-462e-a453-15ee8a286605}
AT3: 2
D4: KRYCÍ LIST SOUPISU | M4: v --- níže se nacházejí doplnkové a pomocné údaje k sestavám --- v | AT4: False
D6: Stavba:
E7: ='Rekapitulace stavby'!K6 -> Rataje - dostavba vodovodu a kanalizace pro nové stavební parcely
D8: Objekt:
E9: SO-02.1 - Splašková kanalizace - I. etapa
D11: KSO: | F11: 827 21 11 | I11: CC-CZ: | J11: 2223
D12: Místo: | F12: Rataje | I12: Datum: | J12: ='Rekapitulace stavby'!AN8 -> 18. 6. 2018
D13: CZ-CPV: | F13: 45000000-7 | I13: CZ-CPA: | J13: 42.2
D14: Zadavatel: | I14: IČ: | J14: 00252786
E15: Obec Rataje | I15: DIČ: | J15: CZ00252786
D17: Uchazeč: | I17: IČ: | J17: =IF('Rekapitulace stavby'!AN13="Vyplň údaj","",IF('Rekapitulace stavby'!AN13="","",'Rekapitulace stavby'!AN13))
E18: =IF('Rekapitulace stavby'!E14="Vyplň údaj","",IF('Rekapitulace stavby'!E14="","",'Rekapitulace stavby'!E14)) | I18: DIČ: | J18: =IF('Rekapitulace stavby'!AN14="Vyplň údaj","",IF('Rekapitulace stavby'!AN14="","",'Rekapitulace stavby'!AN14))
D20: Projektant: | I20: IČ: | J20: 28159721
E21: VAK projekt s.r.o. | I21: DIČ: | J21: CZ 281 59 721
D23: Poznámka:
D27: Cena bez DPH | J27: =ROUND(J85,2) -> 0
F29: Základ daně | I29: Sazba daně | J29: Výše daně
D30: DPH | E30: základní | F30: =ROUND(SUM(BE85:BE214), 2) -> 0 | I30: 0.21 | J30: =ROUND(ROUND((SUM(BE85:BE214)), 2)*I30, 2) -> 0
E31: snížená | F31: =ROUND(SUM(BF85:BF214), 2) -> 0 | I31: 0.15 | J31: =ROUND(ROUND((SUM(BF85:BF214)), 2)*I31, 2) -> 0
E32: zákl. přenesená | F32: =ROUND(SUM(BG85:BG214), 2) -> 0 | I32: 0.21 | J32: 0
E33: sníž. přenesená | F33: =ROUND(SUM(BH85:BH214), 2) -> 0 | I33: 0.15 | J33: 0
E34: nulová | F34: =ROUND(SUM(BI85:BI214), 2) -> 0 | I34: 0 | J34: 0
D36: Cena s DPH | G36: v | H36: CZK | J36: =SUM(J27:J34) -> 0
C42: REKAPITULACE ČLENĚNÍ SOUPISU PRACÍ
C44: Stavba:
E45: =E7 -> Rataje - dostavba vodovodu a kanalizace pro nové stavební parcely
C46: Objekt:
E47: =E9 -> SO-02.1 - Splašková kanalizace - I. etapa
C49: Místo: | F49: =F12 -> Rataje | I49: Datum: | J49: =IF(J12="","",J12) -> 18. 6. 2018
C51: Zadavatel: | F51: =E15 -> Obec Rataje | I51: Projektant: | J51: =E21 -> VAK projekt s.r.o.
C52: Uchazeč: | F52: =IF(E18="","",E18)
C54: Kód dílu - Popis | J54: Cena celkem [CZK]
C56: Náklady soupisu celkem | J56: =J85 -> 0 | AU56: -1
D57: HSV - Práce a dodávky HSV | J57: =J86 -> 0
D58: 1 - Zemní práce | J58: =J87 -> 0
D59: 3 - Svislé a kompletní konstrukce | J59: =J145 -> 0
D60: 4 - Vodorovné konstrukce | J60: =J148 -> 0
...

Sheet Pokyny pro vyplnění
C3: Struktura údajů, formát souboru a metodika pro zpracování
C4: Struktura
C6: Soubor je složen ze záložky Rekapitulace stavby a záložek s názvem soupisu prací pro jednotlivé objekty ve formátu XLSX. Každá ze záložek přitom obsahuje
C7: ještě samostatné sestavy vymezené orámovaním a nadpisem sestavy.
C9: Rekapitulace stavby obsahuje sestavu Rekapitulace stavby a Rekapitulace objektů stavby a soupisů prací.
D10: V sestavě Rekapitulace stavby jsou uvedeny informace identifikující předmět veřejné zakázky na stavební práce, KSO, CC-CZ, CZ-CPV, CZ-CPA a rekapitulaci
D11: celkové nabídkové ceny uchazeče.
D13: V sestavě Rekapitulace objektů stavby a soupisů prací je uvedena rekapitulace stavebních objektů, inženýrských objektů, provozních souborů,
D14: vedlejších a ostatních nákladů a ostatních nákladů s rekapitulací nabídkové ceny za jednotlivé soupisy prací. Na základě údaje Typ je možné
D15: identifikovat, zda se jedná o objekt nebo soupis prací pro daný objekt:
E16: STA | F16: Stavební objekt pozemní
E17: ING | F17: Stavební objekt inženýrský
E18: PRO | F18: Provozní soubor
E19: VON | F19: Vedlejší a ostatní náklady
E20: OST | F20: Ostatní
E21: Soupis | F21: Soupis prací pro daný typ objektu
C23: Soupis prací pro jednotlivé objekty obsahuje sestavy Krycí list soupisu, Rekapitulace členění soupisu prací, Soupis prací. Za soupis prací může být považován
C24: i objekt stavby v případě, že neobsahuje podřízenou zakázku.
D25: Krycí list soupisu obsahuje rekapitulaci informací o předmětu veřejné zakázky ze sestavy Rekapitulace stavby, informaci o zařazení objektu do KSO,
D26: CC-CZ, CZ-CPV, CZ-CPA a rekapitulaci celkové nabídkové ceny uchazeče za aktuální soupis prací.
D28: Rekapitulace členění soupisu prací obsahuje rekapitulaci soupisu prací ve všech úrovních členění soupisu tak, jak byla tato členění použita (např.
D29: stavební díly, funkční díly, případně jiné členění) s rekapitulací nabídkové ceny.
D31: Soupis prací obsahuje položky veškerých stavebních nebo montážních prací, dodávek materiálů a služeb nezbytných pro zhotovení stavebního objektu,
D32: inženýrského objektu, provozního souboru, vedlejších a ostatních nákladů.
D33: Pro položky soupisu prací se zobrazují následující informace:
E34: PČ | G34: Pořadové číslo položky v aktuálním soupisu
E35: TYP | G35: Typ položky: K - konstrukce, M - materiál, PP - plný popis, PSC - poznámka k souboru cen, P - poznámka k položce, VV - výkaz výměr
E36: Kód | G36: Kód položky
E37: Popis | G37: Zkrácený popis položky
E38: MJ | G38: Měrná jednotka položky
E39: Množství | G39: Množství v měrné jednotce
E40: J.cena | G40: Jednotková cena položky. Zadaní může obsahovat namísto J.ceny sloupce J.materiál a J.montáž, jejichž součet definuje
G41: J.cenu položky.
E42: Cena celkem | G42: Celková cena položky daná jako součin množství a j.ceny
E43: Cenová soustava | G43: Příslušnost položky do cenové soustavy
D45: Ke každé položce soupisu prací se na samostatných řádcích může zobrazovat:
E46: Plný popis položky
E47: Poznámka k souboru cen a poznámka zadavatele
E48: Výkaz výměr
D49: Pokud je k řádku výkazu výměr evidovaný údaj ve sloupci Kód, jedná se o definovaný odkaz, na který se může odvolávat výkaz výměr z jiné položky.
...
