Workbook

Sheet Rekapitulace stavby
A1: Export VZ | D1: List obsahuje: | K1: 1) Rekapitulace stavby | W1: 2) Rekapitulace objektů stavby a soupisů prací | BF1: False | BG1: False | BH1: {3e09cb48-31fe-442a-ac2e-b4b284547f30}
BE2: 0,01 | BF2: 21
BE3: 0,01 | BF3: 15
D4: REKAPITULACE STAVBY | BE4: 0,001
D5: Kód: | K5: 2018/06/02 | BE5: 0,01
D6: Stavba: | K6: Rataje - dostavba vodovodu a kanalizace pro nové stavební parcely | BE6: 0,01
D7: KSO: | K7: 827 | AK7: CC-CZ: | AN7: 22 | BE7: 0,01
D8: Místo: | K8: Rataje | AK8: Datum: | AN8: 18. 6. 2018 | BE8: 0,01
D9: CZ-CPV: | K9: 45000000-7 | AK9: CZ-CPA: | AN9: 42 | BE9: 0,01
D10: Zadavatel: | AK10: IČ: | AN10: 00252786 | BE10: 0,01
E11: Obec Rataje | AK11: DIČ: | AN11: CZ00252786 | BE11: 0,01
BE12: 0,01
D13: Uchazeč: | AK13: IČ: | AN13: Vyplň údaj | BE13: 0,01
E14: Vyplň údaj | AK14: DIČ: | AN14: Vyplň údaj | BE14: 0,01
BE15: False
D16: Projektant: | AK16: IČ: | AN16: 28159721 | BE16: False
E17: VAK projekt s.r.o. | AK17: DIČ: | AN17: CZ 281 59 721 | BE17: True
BE18: 0,01
D19: Poznámka: | BE19: 0,01
E20: Soupis prací je sestaven s využitím Cenové soustavy ÚRS. Položky, které pochází z této cenové soustavy, jsou ve sloupci 'Cenová soustava' označeny popisem 'CS ÚRS' a úrovní příslušného kalendářního pololetí. Veškeré další informace vymezující popis a podmínky použití těchto položek z Cenové soustavy, které nejsou uvedeny přímo v soupisu prací, jsou neomezeně dálkově k dispozici na www.cs-urs.cz, sekce Cenové a technické podmínky. | BE20: False
D23: Cena bez DPH | AK23: =ROUND(AG51,2) -> 0
L25: Sazba daně | W25: Základ daně | AK25: Výše daně
D26: DPH | F26: základní | L26: 0.21 | W26: =ROUND(AG51,2) -> 0 | AK26: =AN51-AG51 -> 0
F27: snížená | L27: 0.15 | W27: 0 | AK27: 0
F28: zákl. přenesená | L28: 0.21 | W28: =ROUND(#REF!,2) -> #REF! | AK28: 0
F29: sníž. přenesená | L29: 0.15 | W29: =ROUND(#REF!,2) -> #REF! | AK29: 0
F30: nulová | L30: 0 | W30: =ROUND(#REF!,2) -> #REF! | AK30: 0
D32: Cena s DPH | T32: v | X32: CZK | AK32: =SUM(AK23:AK30) -> 0
C39: REKAPITULACE OBJEKTŮ STAVBY A SOUPISŮ PRACÍ
C41: Kód: | L41: =K5 -> 2018/06/02
C42: Stavba: | L42: =K6 -> Rataje - dostavba vodovodu a kanalizace pro nové stavební parcely
C44: Místo: | L44: =IF(K8="","",K8) -> Rataje | AI44: Datum: | AM44: =IF(AN8= "","",AN8) -> 18. 6. 2018
C46: Zadavatel: | L46: =IF(E11= "","",E11) -> Obec Rataje | AI46: Projektant: | AM46: =IF(E17="","",E17) -> VAK projekt s.r.o.
C47: Uchazeč: | L47: =IF(E14= "Vyplň údaj","",E14)
C49: Kód | I49: Objekt, Soupis prací | AG49: Cena bez DPH [CZK] | AN49: Cena s DPH [CZK] | AQ49: Typ
C51: Náklady stavby celkem | AG51: =ROUND(SUM(AG52:AG53),2) -> 0 | AN51: =ROUND(SUM(AN52:AN53),2) -> 0 | BE51: D | BF51: 0 | BG51: ###NOIMPORT### | BH51: IMPORT | BI51: {3e09cb48-31fe-442a-ac2e-b4b284547f30} | BJ51: {00000000-0000-0000-0000-000000000000} | BX51: 827
A52: / | D52: VRN-00 | J52: Vedlejší rozpočtové náklady | AG52: ='VRN-00 - Vedlejší rozpočt...'!J27 -> 0 | AN52: =AG52+(AG52*0.21) -> 0 | AQ52: STA | BF52: 1 | BH52: IMPORT | BI52: {ffd362c3-b974-46fe-ac0d-99d2e3686e1c} | BJ52: {3e09cb48-31fe-442a-ac2e-b4b284547f30} | BX52: 827 13 11 | BY52: 2
A53: / | D53: SO-02.2 | J53: Splašková kanalizace - II. etapa | AG53: ='SO-02.1 - Splašková kanal...'!J27 -> 0 | AN53: =AG53+(AG53*0.21) -> 0 | AQ53: STA | BF53: 1 | BH53: IMPORT | BI53: {625da44f-7157-43bb-b33a-35db75e309be} | BJ53: {3e09cb48-31fe-442a-ac2e-b4b284547f30} | BX53: 827 21 11 | BY53: 2

Sheet VRN-00 - Vedlejší rozpočt...
D1: List obsahuje: | F1: 1) Krycí list soupisu | G1: 2) Rekapitulace | J1: 3) Soupis prací | K1: Zpět na list: | L1: Rekapitulace stavby
L2: >> skryté sloupce << | AT2: {ffd362c3-b974-46fe-ac0d-99d2e3686e1c}
AT3: 2
D4: KRYCÍ LIST SOUPISU | M4: v --- níže se nacházejí doplnkové a pomocné údaje k sestavám --- v | AT4: False
D6: Stavba:
E7: ='Rekapitulace stavby'!K6 -> Rataje - dostavba vodovodu a kanalizace pro nové stavební parcely
D8: Objekt:
E9: VRN-00 - Vedlejší rozpočtové náklady
D11: KSO: | F11: 827 13 11 | I11: CC-CZ: | J11: 2
D12: Místo: | F12: Rataje | I12: Datum: | J12: ='Rekapitulace stavby'!AN8 -> 18. 6. 2018
D13: CZ-CPV: | F13: 45000000-7 | I13: CZ-CPA: | J13: 42
D14: Zadavatel: | I14: IČ: | J14: 00252786
E15: Obec Rataje | I15: DIČ: | J15: CZ00252786
D17: Uchazeč: | I17: IČ: | J17: =IF('Rekapitulace stavby'!AN13="Vyplň údaj","",IF('Rekapitulace stavby'!AN13="","",'Rekapitulace stavby'!AN13))
E18: =IF('Rekapitulace stavby'!E14="Vyplň údaj","",IF('Rekapitulace stavby'!E14="","",'Rekapitulace stavby'!E14)) | I18: DIČ: | J18: =IF('Rekapitulace stavby'!AN14="Vyplň údaj","",IF('Rekapitulace stavby'!AN14="","",'Rekapitulace stavby'!AN14))
D20: Projektant: | I20: IČ: | J20: 28159721
E21: VAK projekt s.r.o. | I21: DIČ: | J21: CZ 281 59 721
D23: Poznámka:
D27: Cena bez DPH | J27: =ROUND(J80,2) -> 0
F29: Základ daně | I29: Sazba daně | J29: Výše daně
D30: DPH | E30: základní | F30: =ROUND(SUM(BE80:BE109), 2) -> 0 | I30: 0.21 | J30: =ROUND(ROUND((SUM(BE80:BE109)), 2)*I30, 2) -> 0
E31: snížená | F31: =ROUND(SUM(BF80:BF109), 2) -> 0 | I31: 0.15 | J31: =ROUND(ROUND((SUM(BF80:BF109)), 2)*I31, 2) -> 0
E32: zákl. přenesená | F32: =ROUND(SUM(BG80:BG109), 2) -> 0 | I32: 0.21 | J32: 0
E33: sníž. přenesená | F33: =ROUND(SUM(BH80:BH109), 2) -> 0 | I33: 0.15 | J33: 0
E34: nulová | F34: =ROUND(SUM(BI80:BI109), 2) -> 0 | I34: 0 | J34: 0
D36: Cena s DPH | G36: v | H36: CZK | J36: =SUM(J27:J34) -> 0
C42: REKAPITULACE ČLENĚNÍ SOUPISU PRACÍ
C44: Stavba:
E45: =E7 -> Rataje - dostavba vodovodu a kanalizace pro nové stavební parcely
C46: Objekt:
E47: =E9 -> VRN-00 - Vedlejší rozpočtové náklady
C49: Místo: | F49: =F12 -> Rataje | I49: Datum: | J49: =IF(J12="","",J12) -> 18. 6. 2018
C51: Zadavatel: | F51: =E15 -> Obec Rataje | I51: Projektant: | J51: =E21 -> VAK projekt s.r.o.
C52: Uchazeč: | F52: =IF(E18="","",E18)
C54: Kód dílu - Popis | J54: Cena celkem [CZK]
C56: Náklady soupisu celkem | J56: =J80 -> 0 | AU56: -1
D57: VRN - Vedlejší rozpočtové náklady | J57: =J81 -> 0
D58: VRN1 - Průzkumné, geodetické a projektové práce | J58: =J82 -> 0
D59: VRN3 - Zařízení staveniště | J59: =J102 -> 0
D60: VRN7 - Provozní vlivy | J60: =J106 -> 0
C67: SOUPIS PRACÍ
C69: Stavba:
E70: =E7 -> Rataje - dostavba vodovodu a kanalizace pro nové stavební parcely
C71: Objekt:
E72: =E9 -> VRN-00 - Vedlejší rozpočtové náklady
C74: Místo: | F74: =F12 -> Rataje | I74: Datum: | J74: =IF(J12="","",J12) -> 18. 6. 2018
C76: Zadavatel: | F76: =E15 -> Obec Rataje | I76: Projektant: | J76: =E21 -> VAK projekt s.r.o.
C77: Uchazeč: | F77: =IF(E18="","",E18)
C79: PČ | D79: Typ | E79: Kód | F79: Popis | G79: MJ | H79: Množství | I79: J.cena [CZK] | J79: Cena celkem [CZK] | K79: Cenová soustava | M79: Poznámka | N79: DPH | O79: J. Nh [h] | P79: Nh celkem [h] | Q79: J. hmotnost_x000D_ [t] | R79: Hmotnost_x000D_ celkem [t] | S79: J. suť [t] | T79: Suť Celkem [t]
C80: Náklady soupisu celkem | J80: =BK80 -> 0 | P80: =P81 -> 0 | R80: =R81 -> 0 | T80: =T81 -> 0 | AT80: D | AU80: -1 | BK80: =BK81 -> 0
D81: D | E81: VRN | F81: Vedlejší rozpočtové náklady | J81: =BK81 -> 0 | P81: =P82+P102+P106 -> 0 | R81: =R82+R102+R106 -> 0 | T81: =T82+T102+T106 -> 0 | AR81: 5 | AT81: D | AU81: 0 | AY81: ROZPOCET | BK81: =BK82+BK102+BK106 -> 0
D82: D | E82: VRN1 | F82: Průzkumné, geodetické a projektové práce | J82: =BK82 -> 0 | P82: =SUM(P83:P101) -> 0 | R82: =SUM(R83:R101) -> 0 | T82: =SUM(T83:T101) -> 0 | AR82: 5 | AT82: D | AU82: 1 | AY82: ROZPOCET | BK82: =SUM(BK83:BK101) -> 0
C83: 1 | D83: K | E83: 012002002 | F83: Geodetické vytýčení stavby | G83: kpl | H83: 1 | J83: =ROUND(I83*H83,2) -> 0 | N83: základní | P83: =O83*H83 -> 0 | Q83: 0 | R83: =Q83*H83 -> 0 | S83: 0 | T83: =S83*H83 -> 0 | AR83: 1024 | AT83: K | AU83: 2 | AY83: ROZPOCET | BE83: =IF(N83="základní",J83,0) -> 0 | BF83: =IF(N83="snížená",J83,0) -> 0 | BG83: =IF(N83="zákl. přenesená",J83,0) -> 0 | BH83: =IF(N83="sníž. přenesená",J83,0) -> 0 | BI83: =IF(N83="nulová",J83,0) -> 0 | BJ83: 1 | BK83: =ROUND(I83*H83,2) -> 0 | BL83: 1024 | BM83: -432485435
D84: P | F84: Poznámka k položce: "Poznámka k položce: včetně zařízení staveniště a manipulačních ploch" | AT84: P | AU84: 2
D85: VV | F85: 1 | H85: 1 | AT85: VV | AU85: 2 | AV85: 2 | AW85: True | AX85: 1 | AY85: ROZPOCET
C86: 2 | D86: K | E86: 012-1 | F86: Vytýčení stávajících sítí | G86: kpl | H86: 1 | J86: =ROUND(I86*H86,2) -> 0 | N86: základní | P86: =O86*H86 -> 0 | Q86: 0 | R86: =Q86*H86 -> 0 | S86: 0 | T86: =S86*H86 -> 0 | AR86: 1024 | AT86: K | AU86: 2 | AY86: ROZPOCET | BE86: =IF(N86="základní",J86,0) -> 0 | BF86: =IF(N86="snížená",J86,0) -> 0 | BG86: =IF(N86="zákl. přenesená",J86,0) -> 0 | BH86: =IF(N86="sníž. přenesená",J86,0) -> 0 | BI86: =IF(N86="nulová",J86,0) -> 0 | BJ86: 1 | BK86: =ROUND(I86*H86,2) -> 0 | BL86: 1024 | BM86: 2092499546
D87: P | F87: Poznámka k položce: Zaměření a vytýčení stávajících inženýrských sítí v místě stavby z hlediska jejich ochrany při provádění stavby. | AT87: P | AU87: 2
C88: 3 | D88: K | E88: 012-2 | F88: Bezpečnostní opatření dle plánu BOZP | G88: kpl | H88: 1 | J88: =ROUND(I88*H88,2) -> 0 | N88: základní | P88: =O88*H88 -> 0 | Q88: 0 | R88: =Q88*H88 -> 0 | S88: 0 | T88: =S88*H88 -> 0 | AR88: 1024 | AT88: K | AU88: 2 | AY88: ROZPOCET | BE88: =IF(N88="základní",J88,0) -> 0 | BF88: =IF(N88="snížená",J88,0) -> 0 | BG88: =IF(N88="zákl. přenesená",J88,0) -> 0 | BH88: =IF(N88="sníž. přenesená",J88,0) -> 0 | BI88: =IF(N88="nulová",J88,0) -> 0 | BJ88: 1 | BK88: =ROUND(I88*H88,2) -> 0 | BL88: 1024 | BM88: -874931706
C89: 4 | D89: K | E89: 012-3 | F89: Fotodokumentace stavby | G89: kpl | H89: 1 | J89: =ROUND(I89*H89,2) -> 0 | N89: základní | P89: =O89*H89 -> 0 | Q89: 0 | R89: =Q89*H89 -> 0 | S89: 0 | T89: =S89*H89 -> 0 | AR89: 1024 | AT89: K | AU89: 2 | AY89: ROZPOCET | BE89: =IF(N89="základní",J89,0) -> 0 | BF89: =IF(N89="snížená",J89,0) -> 0 | BG89: =IF(N89="zákl. přenesená",J89,0) -> 0 | BH89: =IF(N89="sníž. přenesená",J89,0) -> 0 | BI89: =IF(N89="nulová",J89,0) -> 0 | BJ89: 1 | BK89: =ROUND(I89*H89,2) -> 0 | BL89: 1024 | BM89: 1115830238
D90: P | F90: Poznámka k položce: fotodokumentace stavby v průběhu provádění prací | AT90: P | AU90: 2
C91: 5 | D91: K | E91: 012303000.1 | F91: Geodetické zaměření skutečného provedení stavby, zpracováno dle směrnice ČEVAK, součástí geodetické dokumentace bude dále vypracování geodetických plánů na zřízení práva služebnosti (věcného břemene) v rozsahu ochranného pásma_x000D_ | G91: kpl | H91: 1 | J91: =ROUND(I91*H91,2) -> 0 | K91: CS ÚRS 2018 01 | N91: základní | P91: =O91*H91 -> 0 | Q91: 0 | R91: =Q91*H91 -> 0 | S91: 0 | T91: =S91*H91 -> 0 | AR91: 1024 | AT91: K | AU91: 2 | AY91: ROZPOCET | BE91: =IF(N91="základní",J91,0) -> 0 | BF91: =IF(N91="snížená",J91,0) -> 0 | BG91: =IF(N91="zákl. přenesená",J91,0) -> 0 | BH91: =IF(N91="sníž. přenesená",J91,0) -> 0 | BI91: =IF(N91="nulová",J91,0) -> 0 | BJ91: 1 | BK91: =ROUND(I91*H91,2) -> 0 | BL91: 1024 | BM91: 1875103700
D92: VV | F92: 1 | H92: 1 | AT92: VV | AU92: 2 | AV92: 2 | AW92: True | AX92: 1 | AY92: ROZPOCET
C93: 6 | D93: K | E93: 012-4 | F93: Fotodukumentace stávajících objektů | G93: kpl | H93: 1 | J93: =ROUND(I93*H93,2) -> 0 | N93: základní | P93: =O93*H93 -> 0 | Q93: 0 | R93: =Q93*H93 -> 0 | S93: 0 | T93: =S93*H93 -> 0 | AR93: 1024 | AT93: K | AU93: 2 | AY93: ROZPOCET | BE93: =IF(N93="základní",J93,0) -> 0 | BF93: =IF(N93="snížená",J93,0) -> 0 | BG93: =IF(N93="zákl. přenesená",J93,0) -> 0 | BH93: =IF(N93="sníž. přenesená",J93,0) -> 0 | BI93: =IF(N93="nulová",J93,0) -> 0 | BJ93: 1 | BK93: =ROUND(I93*H93,2) -> 0 | BL93: 1024 | BM93: -1381565380
D94: P | F94: Poznámka k položce: Fotodokumentace stávajících přilehlých objektů před zahájením stavby a po dokončení stavby | AT94: P | AU94: 2
C95: 7 | D95: K | E95: 012-5 | F95: Doklady požadované k předání a převzetí díla | G95: kpl | H95: 1 | J95: =ROUND(I95*H95,2) -> 0 | N95: základní | P95: =O95*H95 -> 0 | Q95: 0 | R95: =Q95*H95 -> 0 | S95: 0 | T95: =S95*H95 -> 0 | AR95: 1024 | AT95: K | AU95: 2 | AY95: ROZPOCET | BE95: =IF(N95="základní",J95,0) -> 0 | BF95: =IF(N95="snížená",J95,0) -> 0 | BG95: =IF(N95="zákl. přenesená",J95,0) -> 0 | BH95: =IF(N95="sníž. přenesená",J95,0) -> 0 | BI95: =IF(N95="nulová",J95,0) -> 0 | BJ95: 1 | BK95: =ROUND(I95*H95,2) -> 0 | BL95: 1024 | BM95: -1162606150
C96: 8 | D96: K | E96: 012-7 | F96: Dopravně-inženýrské opatření | G96: kpl | H96: 1 | J96: =ROUND(I96*H96,2) -> 0 | N96: základní | P96: =O96*H96 -> 0 | Q96: 0 | R96: =Q96*H96 -> 0 | S96: 0 | T96: =S96*H96 -> 0 | AR96: 1024 | AT96: K | AU96: 2 | AY96: ROZPOCET | BE96: =IF(N96="základní",J96,0) -> 0 | BF96: =IF(N96="snížená",J96,0) -> 0 | BG96: =IF(N96="zákl. přenesená",J96,0) -> 0 | BH96: =IF(N96="sníž. přenesená",J96,0) -> 0 | BI96: =IF(N96="nulová",J96,0) -> 0 | BJ96: 1 | BK96: =ROUND(I96*H96,2) -> 0 | BL96: 1024 | BM96: 1393466331
D97: P | F97: Poznámka k položce: Náklady na vyhotovení návrhu dočasného dopravního značení, jeho projednání s dotčenými orgány a organizacemi, dodání dopravních značek a světelné signalizace, jejich rozmístění a přemísťování a jejich údržba v průběhu výstavby včetně následného odstranění po ukončení stavebních prací. | AT97: P | AU97: 2
D98: VV | F98: 1 | H98: 1 | AT98: VV | AU98: 2 | AV98: 2 | AW98: True | AX98: 1 | AY98: ROZPOCET
C99: 9 | D99: K | E99: 013254000.1 | F99: Dokumentace skutečného provedení stavby a její předání objednateli v požadované formě a počtu | G99: kpl | H99: 1 | J99: =ROUND(I99*H99,2) -> 0 | K99: CS ÚRS 2018 01 | N99: základní | P99: =O99*H99 -> 0 | Q99: 0 | R99: =Q99*H99 -> 0 | S99: 0 | T99: =S99*H99 -> 0 | AR99: 1024 | AT99: K | AU99: 2 | AY99: ROZPOCET | BE99: =IF(N99="základní",J99,0) -> 0 | BF99: =IF(N99="snížená",J99,0) -> 0 | BG99: =IF(N99="zákl. přenesená",J99,0) -> 0 | BH99: =IF(N99="sníž. přenesená",J99,0) -> 0 | BI99: =IF(N99="nulová",J99,0) -> 0 | BJ99: 1 | BK99: =ROUND(I99*H99,2) -> 0 | BL99: 1024 | BM99: 94571249
D100: P | F100: Poznámka k položce: | AT100: P | AU100: 2
D101: VV | F101: 1 | H101: 1 | AT101: VV | AU101: 2 | AV101: 2 | AW101: True | AX101: 1 | AY101: ROZPOCET
D102: D | E102: VRN3 | F102: Zařízení staveniště | J102: =BK102 -> 0 | P102: =SUM(P103:P105) -> 0 | R102: =SUM(R103:R105) -> 0 | T102: =SUM(T103:T105) -> 0 | AR102: 5 | AT102: D | AU102: 1 | AY102: ROZPOCET | BK102: =SUM(BK103:BK105) -> 0
C103: 10 | D103: K | E103: 030001000.1 | F103: Zařízení staveniště | G103: kpl | H103: 1 | J103: =ROUND(I103*H103,2) -> 0 | K103: CS ÚRS 2018 01 | N103: základní | P103: =O103*H103 -> 0 | Q103: 0 | R103: =Q103*H103 -> 0 | S103: 0 | T103: =S103*H103 -> 0 | AR103: 1024 | AT103: K | AU103: 2 | AY103: ROZPOCET | BE103: =IF(N103="základní",J103,0) -> 0 | BF103: =IF(N103="snížená",J103,0) -> 0 | BG103: =IF(N103="zákl. přenesená",J103,0) -> 0 | BH103: =IF(N103="sníž. přenesená",J103,0) -> 0 | BI103: =IF(N103="nulová",J103,0) -> 0 | BJ103: 1 | BK103: =ROUND(I103*H103,2) -> 0 | BL103: 1024 | BM103: -1550217943
D104: P | F104: Poznámka k položce: "Poznámka k položce: zajištění a zabezpečení staveniště, zřízení a likvidace staveniště" | AT104: P | AU104: 2
D105: VV | F105: 1 | H105: 1 | AT105: VV | AU105: 2 | AV105: 2 | AW105: True | AX105: 1 | AY105: ROZPOCET
D106: D | E106: VRN7 | F106: Provozní vlivy | J106: =BK106 -> 0 | P106: =SUM(P107:P109) -> 0 | R106: =SUM(R107:R109) -> 0 | T106: =SUM(T107:T109) -> 0 | AR106: 5 | AT106: D | AU106: 1 | AY106: ROZPOCET | BK106: =SUM(BK107:BK109) -> 0
C107: 11 | D107: K | E107: 071002000 | F107: Součinnost provozovatele při stavbě _x000D_ | G107: kpl | H107: 1 | J107: =ROUND(I107*H107,2) -> 0 | K107: CS ÚRS 2018 01 | N107: základní | P107: =O107*H107 -> 0 | Q107: 0 | R107: =Q107*H107 -> 0 | S107: 0 | T107: =S107*H107 -> 0 | AR107: 1024 | AT107: K | AU107: 2 | AY107: ROZPOCET | BE107: =IF(N107="základní",J107,0) -> 0 | BF107: =IF(N107="snížená",J107,0) -> 0 | BG107: =IF(N107="zákl. přenesená",J107,0) -> 0 | BH107: =IF(N107="sníž. přenesená",J107,0) -> 0 | BI107: =IF(N107="nulová",J107,0) -> 0 | BJ107: 1 | BK107: =ROUND(I107*H107,2) -> 0 | BL107: 1024 | BM107: -391119612
D108: P | F108: Poznámka k položce: "Poznámka k položce: Položka obsahuje náklady provozovatele na součinnost při stavbě tzm. otevírání - zavírání šoupat, vypuštění, napuštění potrubí apod. | AT108: P | AU108: 2
D109: VV | F109: 1 | H109: 1 | AT109: VV | AU109: 2 | AV109: 2 | AW109: True | AX109: 1 | AY109: ROZPOCET

Sheet SO-02.1 - Splašková kanal...
D1: List obsahuje: | F1: 1) Krycí list soupisu | G1: 2) Rekapitulace | J1: 3) Soupis prací | K1: Zpět na list: | L1: Rekapitulace stavby
L2: >> skryté sloupce << | AT2: {8fbd1d94-493e-462e-a453-15ee8a286605}
AT3: 2
D4: KRYCÍ LIST SOUPISU | M4: v --- níže se nacházejí doplnkové a pomocné údaje k sestavám --- v | AT4: False
D6: Stavba:
E7: ='Rekapitulace stavby'!K6 -> Rataje - dostavba vodovodu a kanalizace pro nové stavební parcely
D8: Objekt:
E9: SO-02.1 - Splašková kanalizace - I. etapa
D11: KSO: | F11: 827 21 11 | I11: CC-CZ: | J11: 2223
D12: Místo: | F12: Rataje | I12: Datum: | J12: ='Rekapitulace stavby'!AN8 -> 18. 6. 2018
D13: CZ-CPV: | F13: 45000000-7 | I13: CZ-CPA: | J13: 42.2
D14: Zadavatel: | I14: IČ: | J14: 00252786
E15: Obec Rataje | I15: DIČ: | J15: CZ00252786
D17: Uchazeč: | I17: IČ: | J17: =IF('Rekapitulace stavby'!AN13="Vyplň údaj","",IF('Rekapitulace stavby'!AN13="","",'Rekapitulace stavby'!AN13))
E18: =IF('Rekapitulace stavby'!E14="Vyplň údaj","",IF('Rekapitulace stavby'!E14="","",'Rekapitulace stavby'!E14)) | I18: DIČ: | J18: =IF('Rekapitulace stavby'!AN14="Vyplň údaj","",IF('Rekapitulace stavby'!AN14="","",'Rekapitulace stavby'!AN14))
D20: Projektant: | I20: IČ: | J20: 28159721
E21: VAK projekt s.r.o. | I21: DIČ: | J21: CZ 281 59 721
D23: Poznámka:
D27: Cena bez DPH | J27: =ROUND(J85,2) -> 0
F29: Základ daně | I29: Sazba daně | J29: Výše daně
D30: DPH | E30: základní | F30: =ROUND(SUM(BE85:BE214), 2) -> 0 | I30: 0.21 | J30: =ROUND(ROUND((SUM(BE85:BE214)), 2)*I30, 2) -> 0
E31: snížená | F31: =ROUND(SUM(BF85:BF214), 2) -> 0 | I31: 0.15 | J31: =ROUND(ROUND((SUM(BF85:BF214)), 2)*I31, 2) -> 0
E32: zákl. přenesená | F32: =ROUND(SUM(BG85:BG214), 2) -> 0 | I32: 0.21 | J32: 0
E33: sníž. přenesená | F33: =ROUND(SUM(BH85:BH214), 2) -> 0 | I33: 0.15 | J33: 0
E34: nulová | F34: =ROUND(SUM(BI85:BI214), 2) -> 0 | I34: 0 | J34: 0
D36: Cena s DPH | G36: v | H36: CZK | J36: =SUM(J27:J34) -> 0
C42: REKAPITULACE ČLENĚNÍ SOUPISU PRACÍ
C44: Stavba:
E45: =E7 -> Rataje - dostavba vodovodu a kanalizace pro nové stavební parcely
C46: Objekt:
E47: =E9 -> SO-02.1 - Splašková kanalizace - I. etapa
C49: Místo: | F49: =F12 -> Rataje | I49: Datum: | J49: =IF(J12="","",J12) -> 18. 6. 2018
C51: Zadavatel: | F51: =E15 -> Obec Rataje | I51: Projektant: | J51: =E21 -> VAK projekt s.r.o.
C52: Uchazeč: | F52: =IF(E18="","",E18)
C54: Kód dílu - Popis | J54: Cena celkem [CZK]
C56: Náklady soupisu celkem | J56: =J85 -> 0 | AU56: -1
D57: HSV - Práce a dodávky HSV | J57: =J86 -> 0
D58: 1 - Zemní práce | J58: =J87 -> 0
D59: 3 - Svislé a kompletní konstrukce | J59: =J145 -> 0
D60: 4 - Vodorovné konstrukce | J60: =J148 -> 0
D61: 5 - Komunikace pozemní | J61: =J157 -> 0
D62: 8 - Trubní vedení | J62: =J170 -> 0
D63: 9 - Ostatní konstrukce a práce, bourání | J63: =J202 -> 0
D64: 997 - Přesun sutě | J64: =J207 -> 0
D65: 998 - Přesun hmot | J65: =J213 -> 0
C72: SOUPIS PRACÍ
C74: Stavba:
E75: =E7 -> Rataje - dostavba vodovodu a kanalizace pro nové stavební parcely
C76: Objekt:
E77: =E9 -> SO-02.1 - Splašková kanalizace - I. etapa
C79: Místo: | F79: =F12 -> Rataje | I79: Datum: | J79: =IF(J12="","",J12) -> 18. 6. 2018
C81: Zadavatel: | F81: =E15 -> Obec Rataje | I81: Projektant: | J81: =E21 -> VAK projekt s.r.o.
C82: Uchazeč: | F82: =IF(E18="","",E18)
C84: PČ | D84: Typ | E84: Kód | F84: Popis | G84: MJ | H84: Množství | I84: J.cena [CZK] | J84: Cena celkem [CZK] | K84: Cenová soustava | M84: Poznámka | N84: DPH | O84: J. Nh [h] | P84: Nh celkem [h] | Q84: J. hmotnost_x000D_ [t] | R84: Hmotnost_x000D_ celkem [t] | S84: J. suť [t] | T84: Suť Celkem [t]
C85: Náklady soupisu celkem | J85: =BK85 -> 0 | P85: =P86 -> 0 | R85: =R86 -> 43.58169 | T85: =T86 -> 8.99676 | AT85: D | AU85: -1 | BK85: =BK86 -> 0
D86: D | E86: HSV | F86: Práce a dodávky HSV | J86: =BK86 -> 0 | P86: =P87+P145+P148+P157+P170+P202+P207+P213 -> 0 | R86: =R87+R145+R148+R157+R170+R202+R207+R213 -> 43.58169 | T86: =T87+T145+T148+T157+T170+T202+T207+T213 -> 8.99676 | AR86: 1 | AT86: D | AU86: 0 | AY86: ROZPOCET | BK86: =BK87+BK145+BK148+BK157+BK170+BK202+BK207+BK213 -> 0
D87: D | E87: 1 | F87: Zemní práce | J87: =BK87 -> 0 | P87: =SUM(P88:P144) -> 0 | R87: =SUM(R88:R144) -> 27.585901 | T87: =SUM(T88:T144) -> 8.99676 | AR87: 1 | AT87: D | AU87: 1 | AY87: ROZPOCET | BK87: =SUM(BK88:BK144) -> 0
C88: 1 | D88: K | E88: 113107344 | F88: Odstranění podkladů nebo krytů strojně plochy jednotlivě do 50 m2 s přemístěním hmot na skládku na vzdálenost do 3 m nebo s naložením na dopravní prostředek živičných, o tl. vrstvy přes 150 do 200 mm | G88: m2 | H88: 14.472 | J88: =ROUND(I88*H88,2) -> 0 | K88: CS ÚRS 2018 01 | N88: základní | P88: =O88*H88 -> 0 | Q88: 0 | R88: =Q88*H88 -> 0 | S88: 0.45 | T88: =S88*H88 -> 6.5124 | AR88: 4 | AT88: K | AU88: 2 | AY88: ROZPOCET | BE88: =IF(N88="základní",J88,0) -> 0 | BF88: =IF(N88="snížená",J88,0) -> 0 | BG88: =IF(N88="zákl. přenesená",J88,0) -> 0 | BH88: =IF(N88="sníž. přenesená",J88,0) -> 0 | BI88: =IF(N88="nulová",J88,0) -> 0 | BJ88: 1 | BK88: =ROUND(I88*H88,2) -> 0 | BL88: 4 | BM88: -923847954
D89: VV | F89: 0,9*16,08 | H89: 14.472 | AT89: VV | AU89: 2 | AV89: 2 | AW89: True | AX89: 1 | AY89: ROZPOCET
C90: 2 | D90: K | E90: 113154122 | F90: Frézování živičného podkladu nebo krytu s naložením na dopravní prostředek plochy do 500 m2 bez překážek v trase pruhu šířky přes 0,5 m do 1 m, tloušťky vrstvy 40 mm | G90: m2 | H90: 24.12 | J90: =ROUND(I90*H90,2) -> 0 | K90: CS ÚRS 2018 01 | N90: základní | P90: =O90*H90 -> 0 | Q90: 4e-05 | R90: =Q90*H90 -> 0.0009648 | S90: 0.103 | T90: =S90*H90 -> 2.48436 | AR90: 4 | AT90: K | AU90: 2 | AY90: ROZPOCET | BE90: =IF(N90="základní",J90,0) -> 0 | BF90: =IF(N90="snížená",J90,0) -> 0 | BG90: =IF(N90="zákl. přenesená",J90,0) -> 0 | BH90: =IF(N90="sníž. přenesená",J90,0) -> 0 | BI90: =IF(N90="nulová",J90,0) -> 0 | BJ90: 1 | BK90: =ROUND(I90*H90,2) -> 0 | BL90: 4 | BM90: -1185731888
D91: VV | F91: 1,5*16,08 | H91: 24.12 | AT91: VV | AU91: 2 | AV91: 2 | AW91: True | AX91: 1 | AY91: ROZPOCET
C92: 3 | D92: K | E92: 115101201 | F92: Čerpání vody na dopravní výšku do 10 m s uvažovaným průměrným přítokem do 500 l/min | G92: hod | H92: 28.166 | J92: =ROUND(I92*H92,2) -> 0 | K92: CS ÚRS 2018 01 | N92: základní | P92: =O92*H92 -> 0 | Q92: 0 | R92: =Q92*H92 -> 0 | S92: 0 | T92: =S92*H92 -> 0 | AR92: 4 | AT92: K | AU92: 2 | AY92: ROZPOCET | BE92: =IF(N92="základní",J92,0) -> 0 | BF92: =IF(N92="snížená",J92,0) -> 0 | BG92: =IF(N92="zákl. přenesená",J92,0) -> 0 | BH92: =IF(N92="sníž. přenesená",J92,0) -> 0 | BI92: =IF(N92="nulová",J92,0) -> 0 | BJ92: 1 | BK92: =ROUND(I92*H92,2) -> 0 | BL92: 4 | BM92: -1090821186
D93: VV | F93: 140,83*0,2 | H93: 28.166 | AT93: VV | AU93: 2 | AV93: 2 | AW93: True | AX93: 1 | AY93: ROZPOCET
C94: 4 | D94: K | E94: 115101301 | F94: Pohotovost záložní čerpací soupravy pro dopravní výšku do 10 m s uvažovaným průměrným přítokem do 500 l/min | G94: den | H94: 3.521 | J94: =ROUND(I94*H94,2) -> 0 | K94: CS ÚRS 2018 01 | N94: základní | P94: =O94*H94 -> 0 | Q94: 0 | R94: =Q94*H94 -> 0 | S94: 0 | T94: =S94*H94 -> 0 | AR94: 4 | AT94: K | AU94: 2 | AY94: ROZPOCET | BE94: =IF(N94="základní",J94,0) -> 0 | BF94: =IF(N94="snížená",J94,0) -> 0 | BG94: =IF(N94="zákl. přenesená",J94,0) -> 0 | BH94: =IF(N94="sníž. přenesená",J94,0) -> 0 | BI94: =IF(N94="nulová",J94,0) -> 0 | BJ94: 1 | BK94: =ROUND(I94*H94,2) -> 0 | BL94: 4 | BM94: -1454134948
D95: VV | F95: 28,166/8 | H95: 3.521 | AT95: VV | AU95: 2 | AV95: 2 | AW95: True | AX95: 1 | AY95: ROZPOCET
C96: 5 | D96: K | E96: 119001401 | F96: Dočasné zajištění podzemního potrubí nebo vedení ve výkopišti ve stavu i poloze , ve kterých byla na začátku zemních prací a to s podepřením, vzepřením nebo vyvěšením, příp. s ochranným bedněním, se zřízením a odstraněním za jišťovací konstrukce, s opotřebením hmot potrubí ocelového nebo litinového, jmenovité světlosti DN do 200 | G96: m | H96: 1.8 | J96: =ROUND(I96*H96,2) -> 0 | K96: CS ÚRS 2018 01 | N96: základní | P96: =O96*H96 -> 0 | Q96: 0.00868 | R96: =Q96*H96 -> 0.015624 | S96: 0 | T96: =S96*H96 -> 0 | AR96: 4 | AT96: K | AU96: 2 | AY96: ROZPOCET | BE96: =IF(N96="základní",J96,0) -> 0 | BF96: =IF(N96="snížená",J96,0) -> 0 | BG96: =IF(N96="zákl. přenesená",J96,0) -> 0 | BH96: =IF(N96="sníž. přenesená",J96,0) -> 0 | BI96: =IF(N96="nulová",J96,0) -> 0 | BJ96: 1 | BK96: =ROUND(I96*H96,2) -> 0 | BL96: 4 | BM96: 1874285696
D97: VV | F97: 0,9*2 | H97: 1.8 | AT97: VV | AU97: 2 | AV97: 2 | AW97: True | AX97: 1 | AY97: ROZPOCET
C98: 6 | D98: K | E98: 119001421 | F98: Dočasné zajištění podzemního potrubí nebo vedení ve výkopišti ve stavu i poloze , ve kterých byla na začátku zemních prací a to s podepřením, vzepřením nebo vyvěšením, příp. s ochranným bedněním, se zřízením a odstraněním za jišťovací konstrukce, s opotřebením hmot kabelů a kabelových tratí z volně ložených kabelů a to do 3 kabelů | G98: m | H98: 0.9 | J98: =ROUND(I98*H98,2) -> 0 | K98: CS ÚRS 2018 01 | N98: základní | P98: =O98*H98 -> 0 | Q98: 0.0369 | R98: =Q98*H98 -> 0.03321 | S98: 0 | T98: =S98*H98 -> 0 | AR98: 4 | AT98: K | AU98: 2 | AY98: ROZPOCET | BE98: =IF(N98="základní",J98,0) -> 0 | BF98: =IF(N98="snížená",J98,0) -> 0 | BG98: =IF(N98="zákl. přenesená",J98,0) -> 0 | BH98: =IF(N98="sníž. přenesená",J98,0) -> 0 | BI98: =IF(N98="nulová",J98,0) -> 0 | BJ98: 1 | BK98: =ROUND(I98*H98,2) -> 0 | BL98: 4 | BM98: -725321083
D99: VV | F99: 0,9 | H99: 0.9 | AT99: VV | AU99: 2 | AV99: 2 | AW99: True | AX99: 1 | AY99: ROZPOCET
C100: 7 | D100: K | E100: 130001101 | F100: Příplatek k cenám hloubených vykopávek za ztížení vykopávky v blízkosti podzemního vedení nebo výbušnin pro jakoukoliv třídu horniny | G100: m3 | H100: 4.05 | J100: =ROUND(I100*H100,2) -> 0 | K100: CS ÚRS 2018 01 | N100: základní | P100: =O100*H100 -> 0 | Q100: 0 | R100: =Q100*H100 -> 0 | S100: 0 | T100: =S100*H100 -> 0 | AR100: 4 | AT100: K | AU100: 2 | AY100: ROZPOCET | BE100: =IF(N100="základní",J100,0) -> 0 | BF100: =IF(N100="snížená",J100,0) -> 0 | BG100: =IF(N100="zákl. přenesená",J100,0) -> 0 | BH100: =IF(N100="sníž. přenesená",J100,0) -> 0 | BI100: =IF(N100="nulová",J100,0) -> 0 | BJ100: 1 | BK100: =ROUND(I100*H100,2) -> 0 | BL100: 4 | BM100: -1841414319
D101: VV | F101: 0,9*1,5*1*3 | H101: 4.05 | AT101: VV | AU101: 2 | AV101: 2 | AW101: True | AX101: 1 | AY101: ROZPOCET
C102: 8 | D102: K | E102: 132201202 | F102: Hloubení zapažených i nezapažených rýh šířky přes 600 do 2 000 mm s urovnáním dna do předepsaného profilu a spádu v hornině tř. 3 přes 100 do 1 000 m3 | G102: m3 | H102: 45.866 | J102: =ROUND(I102*H102,2) -> 0 | K102: CS ÚRS 2018 01 | N102: základní | P102: =O102*H102 -> 0 | Q102: 0 | R102: =Q102*H102 -> 0 | S102: 0 | T102: =S102*H102 -> 0 | AR102: 4 | AT102: K | AU102: 2 | AY102: ROZPOCET | BE102: =IF(N102="základní",J102,0) -> 0 | BF102: =IF(N102="snížená",J102,0) -> 0 | BG102: =IF(N102="zákl. přenesená",J102,0) -> 0 | BH102: =IF(N102="sníž. přenesená",J102,0) -> 0 | BI102: =IF(N102="nulová",J102,0) -> 0 | BJ102: 1 | BK102: =ROUND(I102*H102,2) -> 0 | BL102: 4 | BM102: -553912066
D103: VV | F103: 95,06 | H103: 95.06 | AT103: VV | AU103: 2 | AV103: 2 | AW103: True | AX103: 0 | AY103: ROZPOCET
D104: VV | F104: "asfalt"-0,9*0,23*16,08 | H104: -3.329 | AT104: VV | AU104: 2 | AV104: 2 | AW104: True | AX104: 0 | AY104: ROZPOCET
D105: VV | F105: Mezisoučet | H105: 91.731 | AT105: VV | AU105: 2 | AV105: 3 | AW105: True | AX105: 0 | AY105: ROZPOCET
D106: VV | F106: "50% třída č.3"91,731*0,5 | H106: 45.866 | AT106: VV | AU106: 2 | AV106: 2 | AW106: True | AX106: 1 | AY106: ROZPOCET
C107: 9 | D107: K | E107: 132201209 | F107: Hloubení zapažených i nezapažených rýh šířky přes 600 do 2 000 mm s urovnáním dna do předepsaného profilu a spádu v hornině tř. 3 Příplatek k cenám za lepivost horniny tř. 3 | G107: m3 | H107: 9.173 | J107: =ROUND(I107*H107,2) -> 0 | K107: CS ÚRS 2018 01 | N107: základní | P107: =O107*H107 -> 0 | Q107: 0 | R107: =Q107*H107 -> 0 | S107: 0 | T107: =S107*H107 -> 0 | AR107: 4 | AT107: K | AU107: 2 | AY107: ROZPOCET | BE107: =IF(N107="základní",J107,0) -> 0 | BF107: =IF(N107="snížená",J107,0) -> 0 | BG107: =IF(N107="zákl. přenesená",J107,0) -> 0 | BH107: =IF(N107="sníž. přenesená",J107,0) -> 0 | BI107: =IF(N107="nulová",J107,0) -> 0 | BJ107: 1 | BK107: =ROUND(I107*H107,2) -> 0 | BL107: 4 | BM107: -1159707533
D108: VV | F108: 45,866*0,2 | H108: 9.173 | AT108: VV | AU108: 2 | AV108: 2 | AW108: True | AX108: 1 | AY108: ROZPOCET
C109: 10 | D109: K | E109: 132301202 | F109: Hloubení zapažených i nezapažených rýh šířky přes 600 do 2 000 mm s urovnáním dna do předepsaného profilu a spádu v hornině tř. 4 přes 100 do 1 000 m3 | G109: m3 | H109: 45.866 | J109: =ROUND(I109*H109,2) -> 0 | K109: CS ÚRS 2018 01 | N109: základní | P109: =O109*H109 -> 0 | Q109: 0 | R109: =Q109*H109 -> 0 | S109: 0 | T109: =S109*H109 -> 0 | AR109: 4 | AT109: K | AU109: 2 | AY109: ROZPOCET | BE109: =IF(N109="základní",J109,0) -> 0 | BF109: =IF(N109="snížená",J109,0) -> 0 | BG109: =IF(N109="zákl. přenesená",J109,0) -> 0 | BH109: =IF(N109="sníž. přenesená",J109,0) -> 0 | BI109: =IF(N109="nulová",J109,0) -> 0 | BJ109: 1 | BK109: =ROUND(I109*H109,2) -> 0 | BL109: 4 | BM109: 1768705088
D110: VV | F110: 95,06 | H110: 95.06 | AT110: VV | AU110: 2 | AV110: 2 | AW110: True | AX110: 0 | AY110: ROZPOCET
D111: VV | F111: "asfalt"-0,9*0,23*16,08 | H111: -3.329 | AT111: VV | AU111: 2 | AV111: 2 | AW111: True | AX111: 0 | AY111: ROZPOCET
D112: VV | F112: Mezisoučet | H112: 91.731 | AT112: VV | AU112: 2 | AV112: 3 | AW112: True | AX112: 0 | AY112: ROZPOCET
D113: VV | F113: "50% třída č.4"91,731*0,5 | H113: 45.866 | AT113: VV | AU113: 2 | AV113: 2 | AW113: True | AX113: 1 | AY113: ROZPOCET
C114: 11 | D114: K | E114: 132301209 | F114: Hloubení zapažených i nezapažených rýh šířky přes 600 do 2 000 mm s urovnáním dna do předepsaného profilu a spádu v hornině tř. 4 Příplatek k cenám za lepivost horniny tř. 4 | G114: m3 | H114: 9.173 | J114: =ROUND(I114*H114,2) -> 0 | K114: CS ÚRS 2018 01 | N114: základní | P114: =O114*H114 -> 0 | Q114: 0 | R114: =Q114*H114 -> 0 | S114: 0 | T114: =S114*H114 -> 0 | AR114: 4 | AT114: K | AU114: 2 | AY114: ROZPOCET | BE114: =IF(N114="základní",J114,0) -> 0 | BF114: =IF(N114="snížená",J114,0) -> 0 | BG114: =IF(N114="zákl. přenesená",J114,0) -> 0 | BH114: =IF(N114="sníž. přenesená",J114,0) -> 0 | BI114: =IF(N114="nulová",J114,0) -> 0 | BJ114: 1 | BK114: =ROUND(I114*H114,2) -> 0 | BL114: 4 | BM114: -473876870
D115: VV | F115: 45,866*0,2 | H115: 9.173 | AT115: VV | AU115: 2 | AV115: 2 | AW115: True | AX115: 1 | AY115: ROZPOCET
C116: 12 | D116: K | E116: 141721117 | F116: Řízený zemní protlak v hornině tř. 1 až 4, včetně protlačení trub v hloubce do 6 m vnějšího průměru vrtu přes 225 do 315 mm | G116: m | H116: 90 | J116: =ROUND(I116*H116,2) -> 0 | K116: CS ÚRS 2018 01 | N116: základní | P116: =O116*H116 -> 0 | Q116: 0 | R116: =Q116*H116 -> 0 | S116: 0 | T116: =S116*H116 -> 0 | AR116: 4 | AT116: K | AU116: 2 | AY116: ROZPOCET | BE116: =IF(N116="základní",J116,0) -> 0 | BF116: =IF(N116="snížená",J116,0) -> 0 | BG116: =IF(N116="zákl. přenesená",J116,0) -> 0 | BH116: =IF(N116="sníž. přenesená",J116,0) -> 0 | BI116: =IF(N116="nulová",J116,0) -> 0 | BJ116: 1 | BK116: =ROUND(I116*H116,2) -> 0 | BL116: 4 | BM116: -47470338
D117: VV | F117: 90 | H117: 90 | AT117: VV | AU117: 2 | AV117: 2 | AW117: True | AX117: 1 | AY117: ROZPOCET
C118: 13 | D118: M | E118: 28613454 | F118: potrubí dvouvrstvé PE100 RC se signalizační vrstvou SDR 17, 315x18,7mm dl 12 m | G118: m | H118: 92.7 | J118: =ROUND(I118*H118,2) -> 0 | K118: CS ÚRS 2018 01 | N118: základní | P118: =O118*H118 -> 0 | Q118: 0.01759 | R118: =Q118*H118 -> 1.630593 | S118: 0 | T118: =S118*H118 -> 0 | AR118: 8 | AT118: M | AU118: 2 | AY118: ROZPOCET | BE118: =IF(N118="základní",J118,0) -> 0 | BF118: =IF(N118="snížená",J118,0) -> 0 | BG118: =IF(N118="zákl. přenesená",J118,0) -> 0 | BH118: =IF(N118="sníž. přenesená",J118,0) -> 0 | BI118: =IF(N118="nulová",J118,0) -> 0 | BJ118: 1 | BK118: =ROUND(I118*H118,2) -> 0 | BL118: 4 | BM118: -875022582
D119: VV | F119: 90*1,03 | H119: 92.7 | AT119: VV | AU119: 2 | AV119: 2 | AW119: True | AX119: 1 | AY119: ROZPOCET
C120: 14 | D120: K | E120: 151101101 | F120: Zřízení pažení a rozepření stěn rýh pro podzemní vedení pro všechny šířky rýhy příložné pro jakoukoliv mezerovitost, hloubky do 2 m | G120: m2 | H120: 183.94 | J120: =ROUND(I120*H120,2) -> 0 | K120: CS ÚRS 2018 01 | N120: základní | P120: =O120*H120 -> 0 | Q120: 0.00084 | R120: =Q120*H120 -> 0.1545096 | S120: 0 | T120: =S120*H120 -> 0 | AR120: 4 | AT120: K | AU120: 2 | AY120: ROZPOCET | BE120: =IF(N120="základní",J120,0) -> 0 | BF120: =IF(N120="snížená",J120,0) -> 0 | BG120: =IF(N120="zákl. přenesená",J120,0) -> 0 | BH120: =IF(N120="sníž. přenesená",J120,0) -> 0 | BI120: =IF(N120="nulová",J120,0) -> 0 | BJ120: 1 | BK120: =ROUND(I120*H120,2) -> 0 | BL120: 4 | BM120: -2038512001
D121: VV | F121: 183,94 | H121: 183.94 | AT121: VV | AU121: 2 | AV121: 2 | AW121: True | AX121: 1 | AY121: ROZPOCET
C122: 15 | D122: K | E122: 151101111 | F122: Odstranění pažení a rozepření stěn rýh pro podzemní vedení s uložením materiálu na vzdálenost do 3 m od kraje výkopu příložné, hloubky do 2 m | G122: m2 | H122: 183.94 | J122: =ROUND(I122*H122,2) -> 0 | K122: CS ÚRS 2018 01 | N122: základní | P122: =O122*H122 -> 0 | Q122: 0 | R122: =Q122*H122 -> 0 | S122: 0 | T122: =S122*H122 -> 0 | AR122: 4 | AT122: K | AU122: 2 | AY122: ROZPOCET | BE122: =IF(N122="základní",J122,0) -> 0 | BF122: =IF(N122="snížená",J122,0) -> 0 | BG122: =IF(N122="zákl. přenesená",J122,0) -> 0 | BH122: =IF(N122="sníž. přenesená",J122,0) -> 0 | BI122: =IF(N122="nulová",J122,0) -> 0 | BJ122: 1 | BK122: =ROUND(I122*H122,2) -> 0 | BL122: 4 | BM122: -66947177
D123: VV | F123: 183,94 | H123: 183.94 | AT123: VV | AU123: 2 | AV123: 2 | AW123: True | AX123: 1 | AY123: ROZPOCET
C124: 16 | D124: K | E124: 161101101 | F124: Svislé přemístění výkopku bez naložení do dopravní nádoby avšak s vyprázdněním dopravní nádoby na hromadu nebo do dopravního prostředku z horniny tř. 1 až 4, při hloubce výkopu přes 1 do 2,5 m | G124: m3 | H124: 91.731 | J124: =ROUND(I124*H124,2) -> 0 | K124: CS ÚRS 2018 01 | N124: základní | P124: =O124*H124 -> 0 | Q124: 0 | R124: =Q124*H124 -> 0 | S124: 0 | T124: =S124*H124 -> 0 | AR124: 4 | AT124: K | AU124: 2 | AY124: ROZPOCET | BE124: =IF(N124="základní",J124,0) -> 0 | BF124: =IF(N124="snížená",J124,0) -> 0 | BG124: =IF(N124="zákl. přenesená",J124,0) -> 0 | BH124: =IF(N124="sníž. přenesená",J124,0) -> 0 | BI124: =IF(N124="nulová",J124,0) -> 0 | BJ124: 1 | BK124: =ROUND(I124*H124,2) -> 0 | BL124: 4 | BM124: -18196967
D125: VV | F125: 95,06 | H125: 95.06 | AT125: VV | AU125: 2 | AV125: 2 | AW125: True | AX125: 0 | AY125: ROZPOCET
D126: VV | F126: "asfalt"-0,9*0,23*16,08 | H126: -3.329 | AT126: VV | AU126: 2 | AV126: 2 | AW126: True | AX126: 0 | AY126: ROZPOCET
D127: VV | F127: Mezisoučet | H127: 91.731 | AT127: VV | AU127: 2 | AV127: 3 | AW127: True | AX127: 1 | AY127: ROZPOCET
C128: 17 | D128: K | E128: 162701105 | F128: Vodorovné přemístění výkopku nebo sypaniny po suchu na obvyklém dopravním prostředku, bez naložení výkopku, avšak se složením bez rozhrnutí z horniny tř. 1 až 4 na vzdálenost přes 9 000 do 10 000 m | G128: m3 | H128: 28.816 | J128: =ROUND(I128*H128,2) -> 0 | K128: CS ÚRS 2018 01 | N128: základní | P128: =O128*H128 -> 0 | Q128: 0 | R128: =Q128*H128 -> 0 | S128: 0 | T128: =S128*H128 -> 0 | AR128: 4 | AT128: K | AU128: 2 | AY128: ROZPOCET | BE128: =IF(N128="základní",J128,0) -> 0 | BF128: =IF(N128="snížená",J128,0) -> 0 | BG128: =IF(N128="zákl. přenesená",J128,0) -> 0 | BH128: =IF(N128="sníž. přenesená",J128,0) -> 0 | BI128: =IF(N128="nulová",J128,0) -> 0 | BJ128: 1 | BK128: =ROUND(I128*H128,2) -> 0 | BL128: 4 | BM128: 1205896642
D129: VV | F129: 91,731-62,915 | H129: 28.816 | AT129: VV | AU129: 2 | AV129: 2 | AW129: True | AX129: 1 | AY129: ROZPOCET
C130: 18 | D130: K | E130: 171201201 | F130: Uložení sypaniny na skládky | G130: m3 | H130: 28.816 | J130: =ROUND(I130*H130,2) -> 0 | K130: CS ÚRS 2018 01 | N130: základní | P130: =O130*H130 -> 0 | Q130: 0 | R130: =Q130*H130 -> 0 | S130: 0 | T130: =S130*H130 -> 0 | AR130: 4 | AT130: K | AU130: 2 | AY130: ROZPOCET | BE130: =IF(N130="základní",J130,0) -> 0 | BF130: =IF(N130="snížená",J130,0) -> 0 | BG130: =IF(N130="zákl. přenesená",J130,0) -> 0 | BH130: =IF(N130="sníž. přenesená",J130,0) -> 0 | BI130: =IF(N130="nulová",J130,0) -> 0 | BJ130: 1 | BK130: =ROUND(I130*H130,2) -> 0 | BL130: 4 | BM130: 1109020399
...

Sheet Pokyny pro vyplnění
C3: Struktura údajů, formát souboru a metodika pro zpracování
C4: Struktura
C6: Soubor je složen ze záložky Rekapitulace stavby a záložek s názvem soupisu prací pro jednotlivé objekty ve formátu XLSX. Každá ze záložek přitom obsahuje
C7: ještě samostatné sestavy vymezené orámovaním a nadpisem sestavy.
C9: Rekapitulace stavby obsahuje sestavu Rekapitulace stavby a Rekapitulace objektů stavby a soupisů prací.
D10: V sestavě Rekapitulace stavby jsou uvedeny informace identifikující předmět veřejné zakázky na stavební práce, KSO, CC-CZ, CZ-CPV, CZ-CPA a rekapitulaci
D11: celkové nabídkové ceny uchazeče.
D13: V sestavě Rekapitulace objektů stavby a soupisů prací je uvedena rekapitulace stavebních objektů, inženýrských objektů, provozních souborů,
D14: vedlejších a ostatních nákladů a ostatních nákladů s rekapitulací nabídkové ceny za jednotlivé soupisy prací. Na základě údaje Typ je možné
D15: identifikovat, zda se jedná o objekt nebo soupis prací pro daný objekt:
E16: STA | F16: Stavební objekt pozemní
E17: ING | F17: Stavební objekt inženýrský
E18: PRO | F18: Provozní soubor
E19: VON | F19: Vedlejší a ostatní náklady
E20: OST | F20: Ostatní
E21: Soupis | F21: Soupis prací pro daný typ objektu
C23: Soupis prací pro jednotlivé objekty obsahuje sestavy Krycí list soupisu, Rekapitulace členění soupisu prací, Soupis prací. Za soupis prací může být považován
C24: i objekt stavby v případě, že neobsahuje podřízenou zakázku.
D25: Krycí list soupisu obsahuje rekapitulaci informací o předmětu veřejné zakázky ze sestavy Rekapitulace stavby, informaci o zařazení objektu do KSO,
D26: CC-CZ, CZ-CPV, CZ-CPA a rekapitulaci celkové nabídkové ceny uchazeče za aktuální soupis prací.
D28: Rekapitulace členění soupisu prací obsahuje rekapitulaci soupisu prací ve všech úrovních členění soupisu tak, jak byla tato členění použita (např.
D29: stavební díly, funkční díly, případně jiné členění) s rekapitulací nabídkové ceny.
D31: Soupis prací obsahuje položky veškerých stavebních nebo montážních prací, dodávek materiálů a služeb nezbytných pro zhotovení stavebního objektu,
D32: inženýrského objektu, provozního souboru, vedlejších a ostatních nákladů.
D33: Pro položky soupisu prací se zobrazují následující informace:
E34: PČ | G34: Pořadové číslo položky v aktuálním soupisu
E35: TYP | G35: Typ položky: K - konstrukce, M - materiál, PP - plný popis, PSC - poznámka k souboru cen, P - poznámka k položce, VV - výkaz výměr
E36: Kód | G36: Kód položky
E37: Popis | G37: Zkrácený popis položky
E38: MJ | G38: Měrná jednotka položky
E39: Množství | G39: Množství v měrné jednotce
E40: J.cena | G40: Jednotková cena položky. Zadaní může obsahovat namísto J.ceny sloupce J.materiál a J.montáž, jejichž součet definuje
G41: J.cenu položky.
E42: Cena celkem | G42: Celková cena položky daná jako součin množství a j.ceny
E43: Cenová soustava | G43: Příslušnost položky do cenové soustavy
D45: Ke každé položce soupisu prací se na samostatných řádcích může zobrazovat:
E46: Plný popis položky
E47: Poznámka k souboru cen a poznámka zadavatele
E48: Výkaz výměr
D49: Pokud je k řádku výkazu výměr evidovaný údaj ve sloupci Kód, jedná se o definovaný odkaz, na který se může odvolávat výkaz výměr z jiné položky.
C50: Metodika pro zpracování
C52: Jednotlivé sestavy jsou v souboru provázány. Editovatelné pole jsou zvýrazněny žlutým podbarvením, ostatní pole neslouží k editaci a nesmí být jakkoliv
C53: modifikovány.
C55: Uchazeč je pro podání nabídky povinen vyplnit žlutě podbarvená pole:
D56: Pole Uchazeč v sestavě Rekapitulace stavby - zde uchazeč vyplní svůj název (název subjektu)
D57: Pole IČ a DIČ v sestavě Rekapitulace stavby - zde uchazeč vyplní svoje IČ a DIČ
D58: Datum v sestavě Rekapitulace stavby - zde uchazeč vyplní datum vytvoření nabídky
D59: J.cena = jednotková cena v sestavě Soupis prací o maximálním počtu desetinných míst uvedených v poli
D60: - pokud sestavy soupisů prací obsahují pole J.cena, musí být všechna tato pole vyplněna nenulovými kladnými číslicemi
D61: Poznámka - nepovinný údaj pro položku soupisu
D63: V případě, že sestavy soupisů prací neobsahují pole J.cena, potom ve všech soupisech prací obsahují pole:
D64: - J.materiál - jednotková cena materiálu
D65: - J.montáž - jednotková cena montáže
D66: Uchazeč je v tomto případě povinen vyplnit všechna pole J.materiál a pole J.montáž nenulovými kladnými číslicemi. V případech, kdy položka
D67: neobsahuje žádný materiál je přípustné, aby pole J.materiál bylo vyplněno nulou. V případech, kdy položka neobsahuje žádnou montáž je přípustné,
D68: aby pole J.montáž bylo vyplněno nulou. Není však přípustné, aby obě pole - J.materiál, J.Montáž byly u jedné položky vyplněny nulou.
C73: Rekapitulace stavby
C74: Název | F74: Povinný | H74: Popis | I74: Typ | J74: Max. počet
C75: atributu | F75: (A/N) | J75: znaků
C77: Kód | F77: A | H77: Kód stavby | I77: String | J77: 20
C78: Stavba | F78: A | H78: Název stavby | I78: String | J78: 120
C79: Místo | F79: N | H79: Místo stavby | I79: String | J79: 50
C80: Datum | F80: A | H80: Datum vykonaného exportu | I80: Date
C81: KSO | F81: N | H81: Klasifikace stavebního objektu | I81: String | J81: 15
C82: CC-CZ | F82: N | H82: Klasifikace stavbeních děl | I82: String | J82: 15
C83: CZ-CPV | F83: N | H83: Společný slovník pro veřejné zakázky | I83: String | J83: 20
C84: CZ-CPA | F84: N | H84: Klasifikace produkce podle činností | I84: String | J84: 20
C85: Zadavatel | F85: N | H85: Zadavatel zadaní | I85: String | J85: 50
C86: IČ | F86: N | H86: IČ zadavatele zadaní | I86: String | J86: 20
C87: DIČ | F87: N | H87: DIČ zadavatele zadaní | I87: String | J87: 20
C88: Uchazeč | F88: N | H88: Uchazeč veřejné zakázky | I88: String | J88: 50
C89: Projektant | F89: N | H89: Projektant | I89: String | J89: 50
C90: Poznámka | F90: N | H90: Poznámka k zadání | I90: String | J90: 255
C91: Sazba DPH | F91: A | H91: Rekapitulace sazeb DPH u položek soupisů | I91: eGSazbaDph
C92: Základna DPH | F92: A | H92: Základna DPH určena součtem celkové ceny z položek soupisů | I92: Double
C93: Hodnota DPH | F93: A | H93: Hodnota DPH | I93: Double
C94: Cena bez DPH | F94: A | H94: Celková cena bez DPH za celou stavbu. Sčítává se ze všech listů. | I94: Double
C95: Cena s DPH | F95: A | H95: Celková cena s DPH za celou stavbu | I95: Double
C100: Rekapitulace objektů stavby a soupisů prací
C101: Název | F101: Povinný | H101: Popis | I101: Typ | J101: Max. počet
C102: atributu | F102: (A/N) | J102: znaků
C104: Kód | F104: A | H104: Přebírá se z Rekapitulace stavby | I104: String | J104: 20
C105: Stavba | F105: A | H105: Přebírá se z Rekapitulace stavby | I105: String | J105: 120
C106: Místo | F106: N | H106: Přebírá se z Rekapitulace stavby | I106: String | J106: 50
C107: Datum | F107: A | H107: Přebírá se z Rekapitulace stavby | I107: Date
C108: Zadavatel | F108: N | H108: Přebírá se z Rekapitulace stavby | I108: String | J108: 50
C109: Projektant | F109: N | H109: Přebírá se z Rekapitulace stavby | I109: String | J109: 50
C110: Uchazeč | F110: N | H110: Přebírá se z Rekapitulace stavby | I110: String | J110: 50
C111: Kód | F111: A | H111: Kód objektu | I111: String | J111: 20
C112: Objektu, Soupis prací | F112: A | H112: Název objektu | I112: String | J112: 120
C113: Cena bez DPH | F113: A | H113: Cena bez DPH za daný objekt | I113: Double
C114: Cena s DPH | F114: A | H114: Cena spolu s DPH za daný objekt | I114: Double
C115: Typ | F115: A | H115: Typ zakázky | I115: eGTypZakazky
C120: Krycí list soupisu
C121: Název | F121: Povinný | H121: Popis | I121: Typ | J121: Max. počet
C122: atributu | F122: (A/N) | J122: znaků
C124: Stavba | F124: A | H124: Přebírá se z Rekapitulace stavby | I124: String | J124: 120
C125: Objekt | F125: A | H125: Kód a název objektu | I125: String | J125: 20 + 120
C126: Soupis | F126: A | H126: Kód a název soupisu | I126: String | J126: 20 + 120
C127: KSO | F127: N | H127: Klasifikace stavebního objektu | I127: String | J127: 15
...
